BEGIN:VCALENDAR
VERSION:2.0
PRODID:-//Maine Appalachian Trail Club - ECPv6.15.20//NONSGML v1.0//EN
CALSCALE:GREGORIAN
METHOD:PUBLISH
X-ORIGINAL-URL:https://www.matc.org
X-WR-CALDESC:Events for Maine Appalachian Trail Club
REFRESH-INTERVAL;VALUE=DURATION:PT1H
X-Robots-Tag:noindex
X-PUBLISHED-TTL:PT1H
BEGIN:VTIMEZONE
TZID:America/New_York
BEGIN:DAYLIGHT
TZOFFSETFROM:-0500
TZOFFSETTO:-0400
TZNAME:EDT
DTSTART:20250309T070000
END:DAYLIGHT
BEGIN:STANDARD
TZOFFSETFROM:-0400
TZOFFSETTO:-0500
TZNAME:EST
DTSTART:20251102T060000
END:STANDARD
BEGIN:DAYLIGHT
TZOFFSETFROM:-0500
TZOFFSETTO:-0400
TZNAME:EDT
DTSTART:20260308T070000
END:DAYLIGHT
BEGIN:STANDARD
TZOFFSETFROM:-0400
TZOFFSETTO:-0500
TZNAME:EST
DTSTART:20261101T060000
END:STANDARD
BEGIN:DAYLIGHT
TZOFFSETFROM:-0500
TZOFFSETTO:-0400
TZNAME:EDT
DTSTART:20270314T070000
END:DAYLIGHT
BEGIN:STANDARD
TZOFFSETFROM:-0400
TZOFFSETTO:-0500
TZNAME:EST
DTSTART:20271107T060000
END:STANDARD
END:VTIMEZONE
BEGIN:VEVENT
DTSTART;VALUE=DATE:20260601
DTEND;VALUE=DATE:20260604
DTSTAMP:20260425T115939
CREATED:20260421T234002Z
LAST-MODIFIED:20260421T234144Z
UID:6985-1780272000-1780531199@www.matc.org
SUMMARY:Help Replace the Katahdin Stream Bridge in Baxter State Park
DESCRIPTION:Volunteers are needed on Mondays\, Tuesdays\, and/or Wednesdays during the first three weeks of June (June 1–3\, 8–10\, and 15–17). \nWork will include: \n\nHiking tools and materials in and out of the site\nSetting up rigging systems\nOperating Griphoists\nTimber preparation\nBridge demolition\n\nThis is a physically demanding project that involves strenuous hiking and heavy labor. \nIf you’re interested\, text or email:\nBrennan T. Turner\nTrails Supervisor | Baxter State Park\nCell: 207-731-7172\nEmail: brennan.turner@baxterstatepark.org
URL:https://www.matc.org/event/help-replace-the-katahdin-stream-bridge-in-baxter-state-park/
LOCATION:Katahdin District
CATEGORIES:Trails,Work Trips
ATTACH;FMTTYPE=image/jpeg:https://www.matc.org/wp-content/uploads/2020/05/Katahdin2-e1589936849649.jpg
END:VEVENT
BEGIN:VEVENT
DTSTART;VALUE=DATE:20260606
DTEND;VALUE=DATE:20260607
DTSTAMP:20260425T115939
CREATED:20260214T153409Z
LAST-MODIFIED:20260214T153409Z
UID:6710-1780704000-1780790399@www.matc.org
SUMMARY:Trail Work for Beginners at Little Boardman
DESCRIPTION:This day-long event will be a great introduction to what’s involved with trail maintenance on the AT. It will take place on Little Boardman Mountain over easy terrain. Contact Janice for more information.
URL:https://www.matc.org/event/trail-work-for-beginners-at-little-boardman/
LOCATION:White Cap District
CATEGORIES:Trails,Work Trips
ATTACH;FMTTYPE=image/jpeg:https://www.matc.org/wp-content/uploads/2020/07/IMG_7005-e1595700918997.jpeg
ORGANIZER;CN="Janice Clain":MAILTO:president@matc.org
END:VEVENT
BEGIN:VEVENT
DTSTART;VALUE=DATE:20260608
DTEND;VALUE=DATE:20260611
DTSTAMP:20260425T115939
CREATED:20260421T234347Z
LAST-MODIFIED:20260421T234347Z
UID:6987-1780876800-1781135999@www.matc.org
SUMMARY:Help Replace the Katahdin Stream Bridge in Baxter State Park
DESCRIPTION:Volunteers are needed on Mondays\, Tuesdays\, and/or Wednesdays during the first three weeks of June (June 1–3\, 8–10\, and 15–17). \nWork will include: \n\nHiking tools and materials in and out of the site\nSetting up rigging systems\nOperating Griphoists\nTimber preparation\nBridge demolition\n\nThis is a physically demanding project that involves strenuous hiking and heavy labor. \nIf you’re interested\, text or email:\nBrennan T. Turner\nTrails Supervisor | Baxter State Park\nCell: 207-731-7172\nEmail: brennan.turner@baxterstatepark.org
URL:https://www.matc.org/event/help-replace-the-katahdin-stream-bridge-in-baxter-state-park-2/
LOCATION:Katahdin District
CATEGORIES:Trails,Work Trips
ATTACH;FMTTYPE=image/jpeg:https://www.matc.org/wp-content/uploads/2020/05/Katahdin2-e1589936849649.jpg
END:VEVENT
BEGIN:VEVENT
DTSTART;VALUE=DATE:20260615
DTEND;VALUE=DATE:20260618
DTSTAMP:20260425T115939
CREATED:20260421T234455Z
LAST-MODIFIED:20260421T234455Z
UID:6989-1781481600-1781740799@www.matc.org
SUMMARY:Help Replace the Katahdin Stream Bridge in Baxter State Park
DESCRIPTION:Volunteers are needed on Mondays\, Tuesdays\, and/or Wednesdays during the first three weeks of June (June 1–3\, 8–10\, and 15–17). \nWork will include: \n\nHiking tools and materials in and out of the site\nSetting up rigging systems\nOperating Griphoists\nTimber preparation\nBridge demolition\n\nThis is a physically demanding project that involves strenuous hiking and heavy labor. \nIf you’re interested\, text or email:\nBrennan T. Turner\nTrails Supervisor | Baxter State Park\nCell: 207-731-7172\nEmail: brennan.turner@baxterstatepark.org
URL:https://www.matc.org/event/help-replace-the-katahdin-stream-bridge-in-baxter-state-park-3/
LOCATION:Katahdin District
CATEGORIES:Trails,Work Trips
ATTACH;FMTTYPE=image/jpeg:https://www.matc.org/wp-content/uploads/2020/05/Katahdin2-e1589936849649.jpg
END:VEVENT
END:VCALENDAR